BEGIN:VCALENDAR
VERSION:2.0
PRODID:-//Kenai Watershed Forum - ECPv6.15.20//NONSGML v1.0//EN
CALSCALE:GREGORIAN
METHOD:PUBLISH
X-WR-CALNAME:Kenai Watershed Forum
X-ORIGINAL-URL:https://www.kenaiwatershed.org
X-WR-CALDESC:Events for Kenai Watershed Forum
REFRESH-INTERVAL;VALUE=DURATION:PT1H
X-Robots-Tag:noindex
X-PUBLISHED-TTL:PT1H
BEGIN:VTIMEZONE
TZID:America/Anchorage
BEGIN:DAYLIGHT
TZOFFSETFROM:-0900
TZOFFSETTO:-0800
TZNAME:AKDT
DTSTART:20230312T110000
END:DAYLIGHT
BEGIN:STANDARD
TZOFFSETFROM:-0800
TZOFFSETTO:-0900
TZNAME:AKST
DTSTART:20231105T100000
END:STANDARD
BEGIN:DAYLIGHT
TZOFFSETFROM:-0900
TZOFFSETTO:-0800
TZNAME:AKDT
DTSTART:20240310T110000
END:DAYLIGHT
BEGIN:STANDARD
TZOFFSETFROM:-0800
TZOFFSETTO:-0900
TZNAME:AKST
DTSTART:20241103T100000
END:STANDARD
BEGIN:DAYLIGHT
TZOFFSETFROM:-0900
TZOFFSETTO:-0800
TZNAME:AKDT
DTSTART:20250309T110000
END:DAYLIGHT
BEGIN:STANDARD
TZOFFSETFROM:-0800
TZOFFSETTO:-0900
TZNAME:AKST
DTSTART:20251102T100000
END:STANDARD
END:VTIMEZONE
BEGIN:VEVENT
DTSTART;TZID=America/Anchorage:20240601T100000
DTEND;TZID=America/Anchorage:20240601T160000
DTSTAMP:20260419T113003
CREATED:20240425T000909Z
LAST-MODIFIED:20240425T190827Z
UID:14935-1717236000-1717257600@www.kenaiwatershed.org
SUMMARY:Stream Watch Orientation
DESCRIPTION:  \nJoin volunteers and staff on Saturday June 1st at the Kenai Princess Wilderness Lodge (17245 Frontier Circle\, Cooper Landing\, AK 99572) for this year’s in-person orientation. \nIn-person orientation will cover Stream Watch sites\, peer-to-peer education\, bear safety\, and other topics to properly prepare you for the season as a Stream Watch Ambassador. Coordinators encourage volunteers to attend the in-person orientation because it is a great way to get to know other volunteers\, uniforms will be distributed the same day\, and volunteers can ask questions in real time. \nClick Here to learn more about Stream Watch and what it means to be an ambassador. \nClick Here to RSVP for the Stream Watch In-Person Orientation
URL:https://www.kenaiwatershed.org/event/stream-watch-orientation-2/
LOCATION:Kenai Princess Wilderness Lodge\, 17245 Frontier Circle\, Cooper Landing\, AK\, 99572\, United States
CATEGORIES:Volunteer
ATTACH;FMTTYPE=image/png:https://www.kenaiwatershed.org/wp-content/uploads/2024/03/OrientationGood.png
ORGANIZER;CN="Brandon Drzazgowski":MAILTO:Brandonsw@kenaiwatershed.org
END:VEVENT
BEGIN:VEVENT
DTSTART;TZID=America/Anchorage:20240608T080000
DTEND;TZID=America/Anchorage:20240608T110000
DTSTAMP:20260419T113003
CREATED:20240326T220113Z
LAST-MODIFIED:20240326T220550Z
UID:14503-1717833600-1717844400@www.kenaiwatershed.org
SUMMARY:Run for the River 2024
DESCRIPTION:Run for the River is an annual event hosted by the Kenai Watershed Forum.  The proceeds from the race help support our summer events and the environmental programs of the Kenai Watershed Forum.  Runners and walkers of all ages will enjoy this multi-turn\, looped 5K and 10 Mile course that is routed along the famous Kenai River. \nFor more information and to register visit the Run for the River page.
URL:https://www.kenaiwatershed.org/event/run-for-the-river/
LOCATION:Kenai Watershed Forum\, 44129 Sterling Hwy\, Soldotna\, AK\, 99669\, United States
CATEGORIES:Support KWF
ATTACH;FMTTYPE=image/png:https://www.kenaiwatershed.org/wp-content/uploads/2024/03/Run-for-the-River-General-1.png
END:VEVENT
BEGIN:VEVENT
DTSTART;TZID=America/Anchorage:20240608T110000
DTEND;TZID=America/Anchorage:20240608T170000
DTSTAMP:20260419T113003
CREATED:20240325T184028Z
LAST-MODIFIED:20240402T001539Z
UID:14595-1717844400-1717866000@www.kenaiwatershed.org
SUMMARY:Kenai River Fair
DESCRIPTION:Join the Kenai Watershed Forum in celebrating the Kenai River through free\, family fun at our newly restructured Kenai River Fair! \nGet ready for a day of fun and education centered around the majestic Kenai River. This exciting event will take place at Soldotna Creek Park on Saturday\, June 8\, and will feature booths from various agencies and organizations from all over Southcentral Alaska. \nDon’t miss out on this incredible opportunity to learn more about the Kenai River. Mark your calendars and join us for a day of celebration and exploration! \nFor more information\, visit the Kenai River Fair page. \n \n 
URL:https://www.kenaiwatershed.org/event/kenai-river-fair/
LOCATION:Soldotna Creek Park\, 44129 Sterling Highway\, Soldotna\, AK\, 99669\, United States
CATEGORIES:Kenai River Fair
ATTACH;FMTTYPE=image/png:https://www.kenaiwatershed.org/wp-content/uploads/2024/03/KRF-General.png
END:VEVENT
END:VCALENDAR