BEGIN:VCALENDAR
VERSION:2.0
PRODID:-//Kenai Watershed Forum - ECPv6.15.20//NONSGML v1.0//EN
CALSCALE:GREGORIAN
METHOD:PUBLISH
X-ORIGINAL-URL:https://www.kenaiwatershed.org
X-WR-CALDESC:Events for Kenai Watershed Forum
REFRESH-INTERVAL;VALUE=DURATION:PT1H
X-Robots-Tag:noindex
X-PUBLISHED-TTL:PT1H
BEGIN:VTIMEZONE
TZID:America/Anchorage
BEGIN:DAYLIGHT
TZOFFSETFROM:-0900
TZOFFSETTO:-0800
TZNAME:AKDT
DTSTART:20220313T110000
END:DAYLIGHT
BEGIN:STANDARD
TZOFFSETFROM:-0800
TZOFFSETTO:-0900
TZNAME:AKST
DTSTART:20221106T100000
END:STANDARD
BEGIN:DAYLIGHT
TZOFFSETFROM:-0900
TZOFFSETTO:-0800
TZNAME:AKDT
DTSTART:20230312T110000
END:DAYLIGHT
BEGIN:STANDARD
TZOFFSETFROM:-0800
TZOFFSETTO:-0900
TZNAME:AKST
DTSTART:20231105T100000
END:STANDARD
BEGIN:DAYLIGHT
TZOFFSETFROM:-0900
TZOFFSETTO:-0800
TZNAME:AKDT
DTSTART:20240310T110000
END:DAYLIGHT
BEGIN:STANDARD
TZOFFSETFROM:-0800
TZOFFSETTO:-0900
TZNAME:AKST
DTSTART:20241103T100000
END:STANDARD
END:VTIMEZONE
BEGIN:VEVENT
DTSTART;TZID=America/Anchorage:20231101T180000
DTEND;TZID=America/Anchorage:20231101T190000
DTSTAMP:20260419T234948
CREATED:20230912T230452Z
LAST-MODIFIED:20231012T201148Z
UID:13951-1698861600-1698865200@www.kenaiwatershed.org
SUMMARY:Fireside Chats: Conservation Conversations with Alexa Millward & Ben Meyer
DESCRIPTION:Join the Kenai Watershed Forum\, Wednesday at 6pm for Fireside Chats at the Kenai River Brewing Co. \nAlexa Millward from Trout Unlimited Alaska and Ben Meyer from KWF will team up to present information on the local work the we are doing and how you can get involved to make a difference. \nKWF Members get a free drink on us. We hope to see you there!
URL:https://www.kenaiwatershed.org/event/fireside-chats-conservation-conversations/
LOCATION:Kenai River Brewing Company\, 308 Homestead Ln\, Soldotna\, AK\, 99669\, United States
CATEGORIES:Education
ATTACH;FMTTYPE=image/png:https://www.kenaiwatershed.org/wp-content/uploads/2023/09/6.png
END:VEVENT
END:VCALENDAR