BEGIN:VCALENDAR
VERSION:2.0
PRODID:-//Kenai Watershed Forum - ECPv6.15.20//NONSGML v1.0//EN
CALSCALE:GREGORIAN
METHOD:PUBLISH
X-ORIGINAL-URL:https://www.kenaiwatershed.org
X-WR-CALDESC:Events for Kenai Watershed Forum
REFRESH-INTERVAL;VALUE=DURATION:PT1H
X-Robots-Tag:noindex
X-PUBLISHED-TTL:PT1H
BEGIN:VTIMEZONE
TZID:America/Anchorage
BEGIN:DAYLIGHT
TZOFFSETFROM:-0900
TZOFFSETTO:-0800
TZNAME:AKDT
DTSTART:20140309T110000
END:DAYLIGHT
BEGIN:STANDARD
TZOFFSETFROM:-0800
TZOFFSETTO:-0900
TZNAME:AKST
DTSTART:20141102T100000
END:STANDARD
BEGIN:DAYLIGHT
TZOFFSETFROM:-0900
TZOFFSETTO:-0800
TZNAME:AKDT
DTSTART:20150308T110000
END:DAYLIGHT
BEGIN:STANDARD
TZOFFSETFROM:-0800
TZOFFSETTO:-0900
TZNAME:AKST
DTSTART:20151101T100000
END:STANDARD
BEGIN:DAYLIGHT
TZOFFSETFROM:-0900
TZOFFSETTO:-0800
TZNAME:AKDT
DTSTART:20160313T110000
END:DAYLIGHT
BEGIN:STANDARD
TZOFFSETFROM:-0800
TZOFFSETTO:-0900
TZNAME:AKST
DTSTART:20161106T100000
END:STANDARD
BEGIN:DAYLIGHT
TZOFFSETFROM:-0900
TZOFFSETTO:-0800
TZNAME:AKDT
DTSTART:20170312T110000
END:DAYLIGHT
BEGIN:STANDARD
TZOFFSETFROM:-0800
TZOFFSETTO:-0900
TZNAME:AKST
DTSTART:20171105T100000
END:STANDARD
BEGIN:DAYLIGHT
TZOFFSETFROM:-0900
TZOFFSETTO:-0800
TZNAME:AKDT
DTSTART:20180311T110000
END:DAYLIGHT
BEGIN:STANDARD
TZOFFSETFROM:-0800
TZOFFSETTO:-0900
TZNAME:AKST
DTSTART:20181104T100000
END:STANDARD
BEGIN:DAYLIGHT
TZOFFSETFROM:-0900
TZOFFSETTO:-0800
TZNAME:AKDT
DTSTART:20190310T110000
END:DAYLIGHT
BEGIN:STANDARD
TZOFFSETFROM:-0800
TZOFFSETTO:-0900
TZNAME:AKST
DTSTART:20191103T100000
END:STANDARD
BEGIN:DAYLIGHT
TZOFFSETFROM:-0900
TZOFFSETTO:-0800
TZNAME:AKDT
DTSTART:20200308T110000
END:DAYLIGHT
BEGIN:STANDARD
TZOFFSETFROM:-0800
TZOFFSETTO:-0900
TZNAME:AKST
DTSTART:20201101T100000
END:STANDARD
BEGIN:DAYLIGHT
TZOFFSETFROM:-0900
TZOFFSETTO:-0800
TZNAME:AKDT
DTSTART:20210314T110000
END:DAYLIGHT
BEGIN:STANDARD
TZOFFSETFROM:-0800
TZOFFSETTO:-0900
TZNAME:AKST
DTSTART:20211107T100000
END:STANDARD
BEGIN:DAYLIGHT
TZOFFSETFROM:-0900
TZOFFSETTO:-0800
TZNAME:AKDT
DTSTART:20220313T110000
END:DAYLIGHT
BEGIN:STANDARD
TZOFFSETFROM:-0800
TZOFFSETTO:-0900
TZNAME:AKST
DTSTART:20221106T100000
END:STANDARD
BEGIN:DAYLIGHT
TZOFFSETFROM:-0900
TZOFFSETTO:-0800
TZNAME:AKDT
DTSTART:20230312T110000
END:DAYLIGHT
BEGIN:STANDARD
TZOFFSETFROM:-0800
TZOFFSETTO:-0900
TZNAME:AKST
DTSTART:20231105T100000
END:STANDARD
BEGIN:DAYLIGHT
TZOFFSETFROM:-0900
TZOFFSETTO:-0800
TZNAME:AKDT
DTSTART:20240310T110000
END:DAYLIGHT
BEGIN:STANDARD
TZOFFSETFROM:-0800
TZOFFSETTO:-0900
TZNAME:AKST
DTSTART:20241103T100000
END:STANDARD
BEGIN:DAYLIGHT
TZOFFSETFROM:-0900
TZOFFSETTO:-0800
TZNAME:AKDT
DTSTART:20250309T110000
END:DAYLIGHT
BEGIN:STANDARD
TZOFFSETFROM:-0800
TZOFFSETTO:-0900
TZNAME:AKST
DTSTART:20251102T100000
END:STANDARD
END:VTIMEZONE
BEGIN:VEVENT
DTSTART;TZID=America/Anchorage:20241023T180000
DTEND;TZID=America/Anchorage:20241023T190000
DTSTAMP:20260422T121404
CREATED:20240903T212545Z
LAST-MODIFIED:20240903T212614Z
UID:15397-1729706400-1729710000@www.kenaiwatershed.org
SUMMARY:Fireside Chats - The State of the Inlet
DESCRIPTION:Join the Kenai Watershed Forum on Wednesday\, October 23rd at 6 pm at the outdoor fire pits of Kenai River Brewing Co. for our forth Fireside Chat of the season!  \nThis week\, Cook Inletkeeper Scientist\, Sue Mauger will present on The State of the Inlet.  \nKWF Members get a free drink on us. We hope to see you there! \nSee the full schedule here! \n 
URL:https://www.kenaiwatershed.org/event/fireside-chats-the-state-of-the-inlet/
LOCATION:Kenai River Brewing Company\, 308 Homestead Ln\, Soldotna\, AK\, 99669\, United States
CATEGORIES:Education,Support KWF
ATTACH;FMTTYPE=image/png:https://www.kenaiwatershed.org/wp-content/uploads/2024/08/Fireside-Chats.png
END:VEVENT
BEGIN:VEVENT
DTSTART;TZID=America/Anchorage:20241016T180000
DTEND;TZID=America/Anchorage:20241016T190000
DTSTAMP:20260422T121404
CREATED:20240903T212326Z
LAST-MODIFIED:20240903T212425Z
UID:15395-1729101600-1729105200@www.kenaiwatershed.org
SUMMARY:Fireside Chats - History of AK Craft Brewing
DESCRIPTION:Join the Kenai Watershed Forum on Wednesday\, October 16th at 6 pm at the outdoor fire pits of Kenai River Brewing Co. for our third Fireside Chat of the season!  \nThis week\, Bill Howell will present the History of Alaska Craft Brewing. \nKWF Members get a free drink on us. We hope to see you there! \nSee the full schedule here!
URL:https://www.kenaiwatershed.org/event/fireside-chats-history-of-ak-craft-brewing/
LOCATION:Kenai River Brewing Company\, 308 Homestead Ln\, Soldotna\, AK\, 99669\, United States
CATEGORIES:Education,Support KWF
ATTACH;FMTTYPE=image/png:https://www.kenaiwatershed.org/wp-content/uploads/2024/08/Fireside-Chats.png
END:VEVENT
BEGIN:VEVENT
DTSTART;TZID=America/Anchorage:20241009T180000
DTEND;TZID=America/Anchorage:20241009T190000
DTSTAMP:20260422T121404
CREATED:20240903T211937Z
LAST-MODIFIED:20240903T211937Z
UID:15392-1728496800-1728500400@www.kenaiwatershed.org
SUMMARY:Fireside Chats - Hummingbirds
DESCRIPTION:Join the Kenai Watershed Forum on Wednesday\, October 9th at 6 pm at the outdoor fire pits of Kenai River Brewing Co. for our second Fireside Chat of the season!  \nThis week\, KNWR Wildlife Biologist\, Todd Eskelin will present on Hummingbirds in Alaska.  \nKWF Members get a free drink on us. We hope to see you there! \nSee the full schedule here!
URL:https://www.kenaiwatershed.org/event/fireside-chats-hummingbirds/
LOCATION:Kenai River Brewing Company\, 308 Homestead Ln\, Soldotna\, AK\, 99669\, United States
CATEGORIES:Education,Support KWF
ATTACH;FMTTYPE=image/png:https://www.kenaiwatershed.org/wp-content/uploads/2024/08/Fireside-Chats.png
END:VEVENT
BEGIN:VEVENT
DTSTART;TZID=America/Anchorage:20241002T180000
DTEND;TZID=America/Anchorage:20241002T190000
DTSTAMP:20260422T121404
CREATED:20240903T211749Z
LAST-MODIFIED:20240903T212000Z
UID:15389-1727892000-1727895600@www.kenaiwatershed.org
SUMMARY:Fireside Chats - Going with the Flow
DESCRIPTION:Join the Kenai Watershed Forum on Wednesday\, October 2nd at 6 pm at the outdoor fire pits of Kenai River Brewing Co. for our first Fireside Chat of the season!  \nThis week\, AK Fish & Game’s Leah Ellis will present Going with the Flow – an Instream Flow Monitoring Project. \nKWF Members will receive a free drink on us. We hope to see you there! \nSee the full schedule here!
URL:https://www.kenaiwatershed.org/event/fireside-chats-going-with-the-flow/
LOCATION:Kenai River Brewing Company\, 308 Homestead Ln\, Soldotna\, AK\, 99669\, United States
CATEGORIES:Education,Support KWF
ATTACH;FMTTYPE=image/png:https://www.kenaiwatershed.org/wp-content/uploads/2024/08/Fireside-Chats.png
END:VEVENT
BEGIN:VEVENT
DTSTART;TZID=America/Anchorage:20240608T080000
DTEND;TZID=America/Anchorage:20240608T110000
DTSTAMP:20260422T121404
CREATED:20240326T220113Z
LAST-MODIFIED:20240326T220550Z
UID:14503-1717833600-1717844400@www.kenaiwatershed.org
SUMMARY:Run for the River 2024
DESCRIPTION:Run for the River is an annual event hosted by the Kenai Watershed Forum.  The proceeds from the race help support our summer events and the environmental programs of the Kenai Watershed Forum.  Runners and walkers of all ages will enjoy this multi-turn\, looped 5K and 10 Mile course that is routed along the famous Kenai River. \nFor more information and to register visit the Run for the River page.
URL:https://www.kenaiwatershed.org/event/run-for-the-river/
LOCATION:Kenai Watershed Forum\, 44129 Sterling Hwy\, Soldotna\, AK\, 99669\, United States
CATEGORIES:Support KWF
ATTACH;FMTTYPE=image/png:https://www.kenaiwatershed.org/wp-content/uploads/2024/03/Run-for-the-River-General-1.png
END:VEVENT
BEGIN:VEVENT
DTSTART;TZID=America/Anchorage:20231207T160000
DTEND;TZID=America/Anchorage:20231207T190000
DTSTAMP:20260422T121404
CREATED:20231102T190601Z
LAST-MODIFIED:20231102T190601Z
UID:14061-1701964800-1701975600@www.kenaiwatershed.org
SUMMARY:KWF Holiday Open House
DESCRIPTION:Please join us for our annual holiday open house at the the KWF office! This is a casual come and go event to thank our partners\, members\, supporters\, and community.
URL:https://www.kenaiwatershed.org/event/kwf-holiday-open-house-2/
LOCATION:Kenai Watershed Forum\, 44129 Sterling Hwy\, Soldotna\, AK\, 99669\, United States
CATEGORIES:Support KWF
ATTACH;FMTTYPE=image/png:https://www.kenaiwatershed.org/wp-content/uploads/2023/11/1.png
END:VEVENT
BEGIN:VEVENT
DTSTART;TZID=America/Anchorage:20150612T090000
DTEND;TZID=America/Anchorage:20150614T110000
DTSTAMP:20260422T121404
CREATED:20150107T040859Z
LAST-MODIFIED:20150528T031814Z
UID:122-1434099600-1434279600@www.kenaiwatershed.org
SUMMARY:Kenai River Festival 2015
DESCRIPTION:Join the Kenai Watershed Forum in celebrating the Kenai River through free\, family fun at the annual Kenai River Festival.  Find more information on the pet free\, party in the park here.
URL:https://www.kenaiwatershed.org/event/kenai-river-festival-2015/
LOCATION:Soldotna Creek Park\, 44129 Sterling Highway\, Soldotna\, AK\, 99669\, United States
CATEGORIES:Kenai River Festival,Support KWF
ATTACH;FMTTYPE=image/jpeg:https://www.kenaiwatershed.org/wp-content/uploads/2014/12/getinvolved-event-e1432772456952.jpg
ORGANIZER;CN="Lisa":MAILTO:StreamWatch@kenaiwatershed.org
END:VEVENT
BEGIN:VEVENT
DTSTART;VALUE=DATE:20150330
DTEND;VALUE=DATE:20150401
DTSTAMP:20260422T121404
CREATED:20150106T061456Z
LAST-MODIFIED:20150106T061456Z
UID:108-1427731200-1427817599@www.kenaiwatershed.org
SUMMARY:Last Day to Pick. Click. Give!
DESCRIPTION:Today is the last day to designate Kenai Watershed Forum as your choice! Thank You!
URL:https://www.kenaiwatershed.org/event/last-day-to-pick-click-give/
LOCATION:Online
CATEGORIES:Support KWF
ATTACH;FMTTYPE=image/jpeg:https://www.kenaiwatershed.org/wp-content/uploads/2014/12/10697130_10152327949106304_7616625533313724186_o.jpg
END:VEVENT
END:VCALENDAR