BEGIN:VCALENDAR
VERSION:2.0
PRODID:-//Kenai Watershed Forum - ECPv6.15.20//NONSGML v1.0//EN
CALSCALE:GREGORIAN
METHOD:PUBLISH
X-WR-CALNAME:Kenai Watershed Forum
X-ORIGINAL-URL:https://www.kenaiwatershed.org
X-WR-CALDESC:Events for Kenai Watershed Forum
REFRESH-INTERVAL;VALUE=DURATION:PT1H
X-Robots-Tag:noindex
X-PUBLISHED-TTL:PT1H
BEGIN:VTIMEZONE
TZID:America/Anchorage
BEGIN:DAYLIGHT
TZOFFSETFROM:-0900
TZOFFSETTO:-0800
TZNAME:AKDT
DTSTART:20140309T110000
END:DAYLIGHT
BEGIN:STANDARD
TZOFFSETFROM:-0800
TZOFFSETTO:-0900
TZNAME:AKST
DTSTART:20141102T100000
END:STANDARD
BEGIN:DAYLIGHT
TZOFFSETFROM:-0900
TZOFFSETTO:-0800
TZNAME:AKDT
DTSTART:20150308T110000
END:DAYLIGHT
BEGIN:STANDARD
TZOFFSETFROM:-0800
TZOFFSETTO:-0900
TZNAME:AKST
DTSTART:20151101T100000
END:STANDARD
BEGIN:DAYLIGHT
TZOFFSETFROM:-0900
TZOFFSETTO:-0800
TZNAME:AKDT
DTSTART:20160313T110000
END:DAYLIGHT
BEGIN:STANDARD
TZOFFSETFROM:-0800
TZOFFSETTO:-0900
TZNAME:AKST
DTSTART:20161106T100000
END:STANDARD
BEGIN:DAYLIGHT
TZOFFSETFROM:-0900
TZOFFSETTO:-0800
TZNAME:AKDT
DTSTART:20170312T110000
END:DAYLIGHT
BEGIN:STANDARD
TZOFFSETFROM:-0800
TZOFFSETTO:-0900
TZNAME:AKST
DTSTART:20171105T100000
END:STANDARD
BEGIN:DAYLIGHT
TZOFFSETFROM:-0900
TZOFFSETTO:-0800
TZNAME:AKDT
DTSTART:20180311T110000
END:DAYLIGHT
BEGIN:STANDARD
TZOFFSETFROM:-0800
TZOFFSETTO:-0900
TZNAME:AKST
DTSTART:20181104T100000
END:STANDARD
BEGIN:DAYLIGHT
TZOFFSETFROM:-0900
TZOFFSETTO:-0800
TZNAME:AKDT
DTSTART:20190310T110000
END:DAYLIGHT
BEGIN:STANDARD
TZOFFSETFROM:-0800
TZOFFSETTO:-0900
TZNAME:AKST
DTSTART:20191103T100000
END:STANDARD
BEGIN:DAYLIGHT
TZOFFSETFROM:-0900
TZOFFSETTO:-0800
TZNAME:AKDT
DTSTART:20200308T110000
END:DAYLIGHT
BEGIN:STANDARD
TZOFFSETFROM:-0800
TZOFFSETTO:-0900
TZNAME:AKST
DTSTART:20201101T100000
END:STANDARD
BEGIN:DAYLIGHT
TZOFFSETFROM:-0900
TZOFFSETTO:-0800
TZNAME:AKDT
DTSTART:20210314T110000
END:DAYLIGHT
BEGIN:STANDARD
TZOFFSETFROM:-0800
TZOFFSETTO:-0900
TZNAME:AKST
DTSTART:20211107T100000
END:STANDARD
BEGIN:DAYLIGHT
TZOFFSETFROM:-0900
TZOFFSETTO:-0800
TZNAME:AKDT
DTSTART:20220313T110000
END:DAYLIGHT
BEGIN:STANDARD
TZOFFSETFROM:-0800
TZOFFSETTO:-0900
TZNAME:AKST
DTSTART:20221106T100000
END:STANDARD
BEGIN:DAYLIGHT
TZOFFSETFROM:-0900
TZOFFSETTO:-0800
TZNAME:AKDT
DTSTART:20230312T110000
END:DAYLIGHT
BEGIN:STANDARD
TZOFFSETFROM:-0800
TZOFFSETTO:-0900
TZNAME:AKST
DTSTART:20231105T100000
END:STANDARD
BEGIN:DAYLIGHT
TZOFFSETFROM:-0900
TZOFFSETTO:-0800
TZNAME:AKDT
DTSTART:20240310T110000
END:DAYLIGHT
BEGIN:STANDARD
TZOFFSETFROM:-0800
TZOFFSETTO:-0900
TZNAME:AKST
DTSTART:20241103T100000
END:STANDARD
BEGIN:DAYLIGHT
TZOFFSETFROM:-0900
TZOFFSETTO:-0800
TZNAME:AKDT
DTSTART:20250309T110000
END:DAYLIGHT
BEGIN:STANDARD
TZOFFSETFROM:-0800
TZOFFSETTO:-0900
TZNAME:AKST
DTSTART:20251102T100000
END:STANDARD
BEGIN:DAYLIGHT
TZOFFSETFROM:-0900
TZOFFSETTO:-0800
TZNAME:AKDT
DTSTART:20260308T110000
END:DAYLIGHT
BEGIN:STANDARD
TZOFFSETFROM:-0800
TZOFFSETTO:-0900
TZNAME:AKST
DTSTART:20261101T100000
END:STANDARD
END:VTIMEZONE
BEGIN:VEVENT
DTSTART;TZID=America/Anchorage:20250806T173000
DTEND;TZID=America/Anchorage:20250806T193000
DTSTAMP:20260422T103924
CREATED:20240401T231034Z
LAST-MODIFIED:20250623T210355Z
UID:14794-1754501400-1754508600@www.kenaiwatershed.org
SUMMARY:Salmon Run Series - Week 5
DESCRIPTION:Join us for week 5 – the final week of Salmon Run Series! This is the same course as week 1. Let’s see if you can improve your time! \nSalmon Run Series started in 2012 as a Caring for the Kenai project created by Allie Ostrander. After graduating\, she passed on the 5k running series to the Kenai Watershed Forum. The series takes place over five weeks\, from July to early August\, at Tsalteshi Trails. Salmon Run Series attracts both locals and visitors who want to stay active and train during the summer months.
URL:https://www.kenaiwatershed.org/event/salmon-run-series-week-5/
LOCATION:Tsalteshi Trails\, 46188 Sterling Hwy\, Soldotna\, AK\, 99669\, United States
CATEGORIES:Support KWF
ATTACH;FMTTYPE=image/png:https://www.kenaiwatershed.org/wp-content/uploads/2024/06/Salmon-Run-Series-copy-2-edited-1-e1750712628793.png
END:VEVENT
BEGIN:VEVENT
DTSTART;TZID=America/Anchorage:20250730T173000
DTEND;TZID=America/Anchorage:20250730T193000
DTSTAMP:20260422T103924
CREATED:20240401T230428Z
LAST-MODIFIED:20250623T205655Z
UID:14791-1753896600-1753903800@www.kenaiwatershed.org
SUMMARY:Salmon Run Series - Week 4
DESCRIPTION:Join us for week 4 of Salmon Run Series! This will be the hardest course of the series. Can you do it? \nSalmon Run Series started in 2012 as a Caring for the Kenai project created by Allie Ostrander. After graduating\, she passed on the 5k running series to the Kenai Watershed Forum. The series takes place over five weeks\, from July to early August\, at Tsalteshi Trails. Salmon Run Series attracts both locals and visitors who want to stay active and train during the summer months.
URL:https://www.kenaiwatershed.org/event/salmon-run-series-week-4/
LOCATION:Tsalteshi Trails\, 46188 Sterling Hwy\, Soldotna\, AK\, 99669\, United States
CATEGORIES:Support KWF
ATTACH;FMTTYPE=image/png:https://www.kenaiwatershed.org/wp-content/uploads/2024/06/Salmon-Run-Series-copy-2-edited-1-e1750712628793.png
END:VEVENT
BEGIN:VEVENT
DTSTART;TZID=America/Anchorage:20250723T173000
DTEND;TZID=America/Anchorage:20250723T193000
DTSTAMP:20260422T103924
CREATED:20240401T225809Z
LAST-MODIFIED:20250623T205606Z
UID:14789-1753291800-1753299000@www.kenaiwatershed.org
SUMMARY:Salmon Run Series - Week 3
DESCRIPTION:Join us for week 3 of Salmon Run Series! Half way through and it’s getting a bit more difficult now. \nSalmon Run Series started in 2012 as a Caring for the Kenai project created by Allie Ostrander. After graduating\, she passed on the 5k running series to the Kenai Watershed Forum. The series takes place over five weeks\, from July to early August\, at Tsalteshi Trails. Salmon Run Series attracts both locals and visitors who want to stay active and train during the summer months.
URL:https://www.kenaiwatershed.org/event/salmon-run-series-week-3/
LOCATION:Tsalteshi Trails\, 46188 Sterling Hwy\, Soldotna\, AK\, 99669\, United States
CATEGORIES:Support KWF
ATTACH;FMTTYPE=image/png:https://www.kenaiwatershed.org/wp-content/uploads/2024/06/Salmon-Run-Series-copy-2-edited-1-e1750712628793.png
END:VEVENT
BEGIN:VEVENT
DTSTART;TZID=America/Anchorage:20250716T173000
DTEND;TZID=America/Anchorage:20250716T193000
DTSTAMP:20260422T103924
CREATED:20240401T225548Z
LAST-MODIFIED:20250623T205504Z
UID:14787-1752687000-1752694200@www.kenaiwatershed.org
SUMMARY:Salmon Run Series - Week 2
DESCRIPTION:Join us for week 2 of Salmon Run Series! Tighten your laces\, this course will be a little bit more difficult than last week. \nSalmon Run Series started in 2012 as a Caring for the Kenai project created by Allie Ostrander. After graduating\, she passed on the 5k running series to the Kenai Watershed Forum. The series takes place over five weeks\, from July to early August\, at Tsalteshi Trails. Salmon Run Series attracts both locals and visitors who want to stay active and train during the summer months.
URL:https://www.kenaiwatershed.org/event/salmon-run-series-week-2/
LOCATION:Tsalteshi Trails\, 46188 Sterling Hwy\, Soldotna\, AK\, 99669\, United States
CATEGORIES:Support KWF
ATTACH;FMTTYPE=image/png:https://www.kenaiwatershed.org/wp-content/uploads/2024/06/Salmon-Run-Series-copy-2-edited-1-e1750712628793.png
END:VEVENT
BEGIN:VEVENT
DTSTART;TZID=America/Anchorage:20250709T173000
DTEND;TZID=America/Anchorage:20250709T193000
DTSTAMP:20260422T103924
CREATED:20240401T225230Z
LAST-MODIFIED:20250623T205332Z
UID:14780-1752082200-1752089400@www.kenaiwatershed.org
SUMMARY:Salmon Run Series - Week 1
DESCRIPTION:Join us for week 1 of Salmon Run Series! This will be the easiest of the next 4 weeks and we will repeat this course on week 5 so you can see your improvement. \nSalmon Run Series started in 2012 as a Caring for the Kenai project created by Allie Ostrander. After graduating\, she passed on the 5k running series to the Kenai Watershed Forum. The series takes place over five weeks\, from July to early August\, at Tsalteshi Trails. Salmon Run Series attracts both locals and visitors who want to stay active and train during the summer months.
URL:https://www.kenaiwatershed.org/event/salmon-run-series-week-1/
LOCATION:Tsalteshi Trails\, 46188 Sterling Hwy\, Soldotna\, AK\, 99669\, United States
CATEGORIES:Support KWF
ATTACH;FMTTYPE=image/png:https://www.kenaiwatershed.org/wp-content/uploads/2024/06/Salmon-Run-Series-copy-2-edited-1-e1750712628793.png
END:VEVENT
BEGIN:VEVENT
DTSTART;TZID=America/Anchorage:20250614T080000
DTEND;TZID=America/Anchorage:20250614T110000
DTSTAMP:20260422T103924
CREATED:20250123T185226Z
LAST-MODIFIED:20250429T192651Z
UID:15652-1749888000-1749898800@www.kenaiwatershed.org
SUMMARY:2025 Run for the River
DESCRIPTION:Run for the River is an annual event hosted by the Kenai Watershed Forum.  The proceeds from the race help support our summer events and the environmental programs of the Kenai Watershed Forum.  Runners and walkers of all ages will enjoy this multi-turn\, looped 5K and 10 Mile course that is routed along the famous Kenai River. \nFor more information and to register visit the Run for the River page.
URL:https://www.kenaiwatershed.org/event/2025-run-for-the-river/
LOCATION:Soldotna Creek Park\, 44129 Sterling Highway\, Soldotna\, AK\, 99669\, United States
CATEGORIES:Kenai River Fair,Support KWF
ATTACH;FMTTYPE=image/png:https://www.kenaiwatershed.org/wp-content/uploads/2025/01/2025-R4R-Logo.png
END:VEVENT
BEGIN:VEVENT
DTSTART;TZID=America/Anchorage:20250607T100000
DTEND;TZID=America/Anchorage:20250607T160000
DTSTAMP:20260422T103924
CREATED:20250428T214921Z
LAST-MODIFIED:20250428T214921Z
UID:15879-1749290400-1749312000@www.kenaiwatershed.org
SUMMARY:Stream Watch Orientation
DESCRIPTION:Join the Kenai Watershed Forum and the US Forest Service for this years Stream Watch Orientation held on Saturday\, June 7th from 10am – 4pm at Kenai Princess Wilderness Lodge (17245 Frontier Circle\, Cooper Landing\, AK 99572). \nIn-person orientation will cover Stream Watch sites\, peer-to-peer education\, bear safety\, and other topics to properly prepare you for the season as a Stream Watch Ambassador. Coordinators encourage volunteers to attend the in-person orientation because it is a great way to get to know other volunteers\, uniforms will be distributed the same day\, and volunteers can ask questions in real time. \nClick Here to learn more about Stream Watch and what it means to be an ambassador. \nClick Here to RSVP for the Stream Watch In-Person Orientation
URL:https://www.kenaiwatershed.org/event/stream-watch-orientation-3/
LOCATION:Kenai Princess Wilderness Lodge\, 17245 Frontier Circle\, Cooper Landing\, AK\, 99572\, United States
CATEGORIES:Education,Support KWF,Volunteer
ATTACH;FMTTYPE=image/png:https://www.kenaiwatershed.org/wp-content/uploads/2024/04/Stream-Watch-logo-406-NP-3fish-copy-2-2.png
ORGANIZER;CN="Brandon Drzazgowski":MAILTO:Brandonsw@kenaiwatershed.org
END:VEVENT
BEGIN:VEVENT
DTSTART;TZID=America/Anchorage:20241205T160000
DTEND;TZID=America/Anchorage:20241205T190000
DTSTAMP:20260422T103924
CREATED:20241112T191812Z
LAST-MODIFIED:20241112T191812Z
UID:15491-1733414400-1733425200@www.kenaiwatershed.org
SUMMARY:KWF Holiday Open House
DESCRIPTION:Join us for the Kenai Watershed Forum’s Holiday Open House! Celebrate the season with us as we look back on a year of conservation and community. Enjoy refreshments\, chat with our team\, and connect with others who care about protecting the Kenai Peninsula. We can’t wait to share some holiday cheer with you!
URL:https://www.kenaiwatershed.org/event/kwf-holiday-open-house-3/
LOCATION:Kenai Watershed Forum\, 44129 Sterling Hwy\, Soldotna\, AK\, 99669\, United States
CATEGORIES:Support KWF
ATTACH;FMTTYPE=image/png:https://www.kenaiwatershed.org/wp-content/uploads/2024/11/KWF-Holiday-Open-House.png
END:VEVENT
BEGIN:VEVENT
DTSTART;TZID=America/Anchorage:20241106T180000
DTEND;TZID=America/Anchorage:20241106T190000
DTSTAMP:20260422T103924
CREATED:20240903T214109Z
LAST-MODIFIED:20240903T214109Z
UID:15401-1730916000-1730919600@www.kenaiwatershed.org
SUMMARY:Fireside Chats - Into Africa
DESCRIPTION:Join the Kenai Watershed Forum on Wednesday\, November 6th at 6 pm at the outdoor fire pits of Kenai River Brewing Co. for our final Fireside Chat of the season!  \nThis week\, Ed Schmitt will present Into Africa. \nKWF Members get a free drink on us. We hope to see you there! \nSee the full schedule here!
URL:https://www.kenaiwatershed.org/event/fireside-chats-into-africa/
LOCATION:Kenai River Brewing Company\, 308 Homestead Ln\, Soldotna\, AK\, 99669\, United States
CATEGORIES:Education,Support KWF
ATTACH;FMTTYPE=image/png:https://www.kenaiwatershed.org/wp-content/uploads/2024/08/Fireside-Chats.png
END:VEVENT
BEGIN:VEVENT
DTSTART;TZID=America/Anchorage:20241030T180000
DTEND;TZID=America/Anchorage:20241030T190000
DTSTAMP:20260422T103924
CREATED:20240903T212834Z
LAST-MODIFIED:20240903T212955Z
UID:15399-1730311200-1730314800@www.kenaiwatershed.org
SUMMARY:Fireside Chats - Saving your Streambank
DESCRIPTION:Join the Kenai Watershed Forum on Wednesday\, October 30th at 6 pm at the outdoor fire pits of Kenai River Brewing Co. for our fifth Fireside Chat of the season!  \nThis week\, USF&W Biologist\, Maura Schumacher will present Saving your Streambank.  \nKWF Members get a free drink on us. We hope to see you there! \nSee the full schedule here!
URL:https://www.kenaiwatershed.org/event/fireside-chats-saving-your-streambank/
LOCATION:Kenai River Brewing Company\, 308 Homestead Ln\, Soldotna\, AK\, 99669\, United States
CATEGORIES:Education,Support KWF
ATTACH;FMTTYPE=image/png:https://www.kenaiwatershed.org/wp-content/uploads/2024/08/Fireside-Chats.png
END:VEVENT
BEGIN:VEVENT
DTSTART;TZID=America/Anchorage:20241023T180000
DTEND;TZID=America/Anchorage:20241023T190000
DTSTAMP:20260422T103924
CREATED:20240903T212545Z
LAST-MODIFIED:20240903T212614Z
UID:15397-1729706400-1729710000@www.kenaiwatershed.org
SUMMARY:Fireside Chats - The State of the Inlet
DESCRIPTION:Join the Kenai Watershed Forum on Wednesday\, October 23rd at 6 pm at the outdoor fire pits of Kenai River Brewing Co. for our forth Fireside Chat of the season!  \nThis week\, Cook Inletkeeper Scientist\, Sue Mauger will present on The State of the Inlet.  \nKWF Members get a free drink on us. We hope to see you there! \nSee the full schedule here! \n 
URL:https://www.kenaiwatershed.org/event/fireside-chats-the-state-of-the-inlet/
LOCATION:Kenai River Brewing Company\, 308 Homestead Ln\, Soldotna\, AK\, 99669\, United States
CATEGORIES:Education,Support KWF
ATTACH;FMTTYPE=image/png:https://www.kenaiwatershed.org/wp-content/uploads/2024/08/Fireside-Chats.png
END:VEVENT
BEGIN:VEVENT
DTSTART;TZID=America/Anchorage:20241016T180000
DTEND;TZID=America/Anchorage:20241016T190000
DTSTAMP:20260422T103924
CREATED:20240903T212326Z
LAST-MODIFIED:20240903T212425Z
UID:15395-1729101600-1729105200@www.kenaiwatershed.org
SUMMARY:Fireside Chats - History of AK Craft Brewing
DESCRIPTION:Join the Kenai Watershed Forum on Wednesday\, October 16th at 6 pm at the outdoor fire pits of Kenai River Brewing Co. for our third Fireside Chat of the season!  \nThis week\, Bill Howell will present the History of Alaska Craft Brewing. \nKWF Members get a free drink on us. We hope to see you there! \nSee the full schedule here!
URL:https://www.kenaiwatershed.org/event/fireside-chats-history-of-ak-craft-brewing/
LOCATION:Kenai River Brewing Company\, 308 Homestead Ln\, Soldotna\, AK\, 99669\, United States
CATEGORIES:Education,Support KWF
ATTACH;FMTTYPE=image/png:https://www.kenaiwatershed.org/wp-content/uploads/2024/08/Fireside-Chats.png
END:VEVENT
BEGIN:VEVENT
DTSTART;TZID=America/Anchorage:20241009T180000
DTEND;TZID=America/Anchorage:20241009T190000
DTSTAMP:20260422T103924
CREATED:20240903T211937Z
LAST-MODIFIED:20240903T211937Z
UID:15392-1728496800-1728500400@www.kenaiwatershed.org
SUMMARY:Fireside Chats - Hummingbirds
DESCRIPTION:Join the Kenai Watershed Forum on Wednesday\, October 9th at 6 pm at the outdoor fire pits of Kenai River Brewing Co. for our second Fireside Chat of the season!  \nThis week\, KNWR Wildlife Biologist\, Todd Eskelin will present on Hummingbirds in Alaska.  \nKWF Members get a free drink on us. We hope to see you there! \nSee the full schedule here!
URL:https://www.kenaiwatershed.org/event/fireside-chats-hummingbirds/
LOCATION:Kenai River Brewing Company\, 308 Homestead Ln\, Soldotna\, AK\, 99669\, United States
CATEGORIES:Education,Support KWF
ATTACH;FMTTYPE=image/png:https://www.kenaiwatershed.org/wp-content/uploads/2024/08/Fireside-Chats.png
END:VEVENT
BEGIN:VEVENT
DTSTART;TZID=America/Anchorage:20241002T180000
DTEND;TZID=America/Anchorage:20241002T190000
DTSTAMP:20260422T103924
CREATED:20240903T211749Z
LAST-MODIFIED:20240903T212000Z
UID:15389-1727892000-1727895600@www.kenaiwatershed.org
SUMMARY:Fireside Chats - Going with the Flow
DESCRIPTION:Join the Kenai Watershed Forum on Wednesday\, October 2nd at 6 pm at the outdoor fire pits of Kenai River Brewing Co. for our first Fireside Chat of the season!  \nThis week\, AK Fish & Game’s Leah Ellis will present Going with the Flow – an Instream Flow Monitoring Project. \nKWF Members will receive a free drink on us. We hope to see you there! \nSee the full schedule here!
URL:https://www.kenaiwatershed.org/event/fireside-chats-going-with-the-flow/
LOCATION:Kenai River Brewing Company\, 308 Homestead Ln\, Soldotna\, AK\, 99669\, United States
CATEGORIES:Education,Support KWF
ATTACH;FMTTYPE=image/png:https://www.kenaiwatershed.org/wp-content/uploads/2024/08/Fireside-Chats.png
END:VEVENT
BEGIN:VEVENT
DTSTART;TZID=America/Anchorage:20240608T080000
DTEND;TZID=America/Anchorage:20240608T110000
DTSTAMP:20260422T103924
CREATED:20240326T220113Z
LAST-MODIFIED:20240326T220550Z
UID:14503-1717833600-1717844400@www.kenaiwatershed.org
SUMMARY:Run for the River 2024
DESCRIPTION:Run for the River is an annual event hosted by the Kenai Watershed Forum.  The proceeds from the race help support our summer events and the environmental programs of the Kenai Watershed Forum.  Runners and walkers of all ages will enjoy this multi-turn\, looped 5K and 10 Mile course that is routed along the famous Kenai River. \nFor more information and to register visit the Run for the River page.
URL:https://www.kenaiwatershed.org/event/run-for-the-river/
LOCATION:Kenai Watershed Forum\, 44129 Sterling Hwy\, Soldotna\, AK\, 99669\, United States
CATEGORIES:Support KWF
ATTACH;FMTTYPE=image/png:https://www.kenaiwatershed.org/wp-content/uploads/2024/03/Run-for-the-River-General-1.png
END:VEVENT
BEGIN:VEVENT
DTSTART;TZID=America/Anchorage:20231207T160000
DTEND;TZID=America/Anchorage:20231207T190000
DTSTAMP:20260422T103924
CREATED:20231102T190601Z
LAST-MODIFIED:20231102T190601Z
UID:14061-1701964800-1701975600@www.kenaiwatershed.org
SUMMARY:KWF Holiday Open House
DESCRIPTION:Please join us for our annual holiday open house at the the KWF office! This is a casual come and go event to thank our partners\, members\, supporters\, and community.
URL:https://www.kenaiwatershed.org/event/kwf-holiday-open-house-2/
LOCATION:Kenai Watershed Forum\, 44129 Sterling Hwy\, Soldotna\, AK\, 99669\, United States
CATEGORIES:Support KWF
ATTACH;FMTTYPE=image/png:https://www.kenaiwatershed.org/wp-content/uploads/2023/11/1.png
END:VEVENT
BEGIN:VEVENT
DTSTART;TZID=America/Anchorage:20150612T090000
DTEND;TZID=America/Anchorage:20150614T110000
DTSTAMP:20260422T103924
CREATED:20150107T040859Z
LAST-MODIFIED:20150528T031814Z
UID:122-1434099600-1434279600@www.kenaiwatershed.org
SUMMARY:Kenai River Festival 2015
DESCRIPTION:Join the Kenai Watershed Forum in celebrating the Kenai River through free\, family fun at the annual Kenai River Festival.  Find more information on the pet free\, party in the park here.
URL:https://www.kenaiwatershed.org/event/kenai-river-festival-2015/
LOCATION:Soldotna Creek Park\, 44129 Sterling Highway\, Soldotna\, AK\, 99669\, United States
CATEGORIES:Kenai River Festival,Support KWF
ATTACH;FMTTYPE=image/jpeg:https://www.kenaiwatershed.org/wp-content/uploads/2014/12/getinvolved-event-e1432772456952.jpg
ORGANIZER;CN="Lisa":MAILTO:StreamWatch@kenaiwatershed.org
END:VEVENT
BEGIN:VEVENT
DTSTART;VALUE=DATE:20150330
DTEND;VALUE=DATE:20150401
DTSTAMP:20260422T103924
CREATED:20150106T061456Z
LAST-MODIFIED:20150106T061456Z
UID:108-1427731200-1427817599@www.kenaiwatershed.org
SUMMARY:Last Day to Pick. Click. Give!
DESCRIPTION:Today is the last day to designate Kenai Watershed Forum as your choice! Thank You!
URL:https://www.kenaiwatershed.org/event/last-day-to-pick-click-give/
LOCATION:Online
CATEGORIES:Support KWF
ATTACH;FMTTYPE=image/jpeg:https://www.kenaiwatershed.org/wp-content/uploads/2014/12/10697130_10152327949106304_7616625533313724186_o.jpg
END:VEVENT
END:VCALENDAR