BEGIN:VCALENDAR
VERSION:2.0
PRODID:-//Kenai Watershed Forum - ECPv6.15.20//NONSGML v1.0//EN
CALSCALE:GREGORIAN
METHOD:PUBLISH
X-WR-CALNAME:Kenai Watershed Forum
X-ORIGINAL-URL:https://www.kenaiwatershed.org
X-WR-CALDESC:Events for Kenai Watershed Forum
REFRESH-INTERVAL;VALUE=DURATION:PT1H
X-Robots-Tag:noindex
X-PUBLISHED-TTL:PT1H
BEGIN:VTIMEZONE
TZID:America/Anchorage
BEGIN:DAYLIGHT
TZOFFSETFROM:-0900
TZOFFSETTO:-0800
TZNAME:AKDT
DTSTART:20220313T110000
END:DAYLIGHT
BEGIN:STANDARD
TZOFFSETFROM:-0800
TZOFFSETTO:-0900
TZNAME:AKST
DTSTART:20221106T100000
END:STANDARD
BEGIN:DAYLIGHT
TZOFFSETFROM:-0900
TZOFFSETTO:-0800
TZNAME:AKDT
DTSTART:20230312T110000
END:DAYLIGHT
BEGIN:STANDARD
TZOFFSETFROM:-0800
TZOFFSETTO:-0900
TZNAME:AKST
DTSTART:20231105T100000
END:STANDARD
BEGIN:DAYLIGHT
TZOFFSETFROM:-0900
TZOFFSETTO:-0800
TZNAME:AKDT
DTSTART:20240310T110000
END:DAYLIGHT
BEGIN:STANDARD
TZOFFSETFROM:-0800
TZOFFSETTO:-0900
TZNAME:AKST
DTSTART:20241103T100000
END:STANDARD
END:VTIMEZONE
BEGIN:VEVENT
DTSTART;TZID=America/Anchorage:20231018T180000
DTEND;TZID=America/Anchorage:20231018T190000
DTSTAMP:20260422T071352
CREATED:20230912T225812Z
LAST-MODIFIED:20231012T211508Z
UID:13949-1697652000-1697655600@www.kenaiwatershed.org
SUMMARY:Fireside Chats: Gardening in Alaska with Larry Opperman
DESCRIPTION:Join the Kenai Watershed Forum\, Wednesday at 6pm for Fireside Chats at the Kenai River Brewing Co. \nLarry Opperman\, a local gardener and KDLL radio host\, will be discussing how to grow a successful garden in Alaska. \nKWF Members get a free drink on us. We hope to see you there!
URL:https://www.kenaiwatershed.org/event/fireside-chats-gardening-in-alaska/
LOCATION:Kenai River Brewing Company\, 308 Homestead Ln\, Soldotna\, AK\, 99669\, United States
CATEGORIES:Education
ATTACH;FMTTYPE=image/png:https://www.kenaiwatershed.org/wp-content/uploads/2023/09/Larry-Opperman.png
END:VEVENT
END:VCALENDAR