BEGIN:VCALENDAR
VERSION:2.0
PRODID:-//Kenai Watershed Forum - ECPv6.15.20//NONSGML v1.0//EN
CALSCALE:GREGORIAN
METHOD:PUBLISH
X-ORIGINAL-URL:https://www.kenaiwatershed.org
X-WR-CALDESC:Events for Kenai Watershed Forum
REFRESH-INTERVAL;VALUE=DURATION:PT1H
X-Robots-Tag:noindex
X-PUBLISHED-TTL:PT1H
BEGIN:VTIMEZONE
TZID:America/Anchorage
BEGIN:DAYLIGHT
TZOFFSETFROM:-0900
TZOFFSETTO:-0800
TZNAME:AKDT
DTSTART:20220313T110000
END:DAYLIGHT
BEGIN:STANDARD
TZOFFSETFROM:-0800
TZOFFSETTO:-0900
TZNAME:AKST
DTSTART:20221106T100000
END:STANDARD
BEGIN:DAYLIGHT
TZOFFSETFROM:-0900
TZOFFSETTO:-0800
TZNAME:AKDT
DTSTART:20230312T110000
END:DAYLIGHT
BEGIN:STANDARD
TZOFFSETFROM:-0800
TZOFFSETTO:-0900
TZNAME:AKST
DTSTART:20231105T100000
END:STANDARD
BEGIN:DAYLIGHT
TZOFFSETFROM:-0900
TZOFFSETTO:-0800
TZNAME:AKDT
DTSTART:20240310T110000
END:DAYLIGHT
BEGIN:STANDARD
TZOFFSETFROM:-0800
TZOFFSETTO:-0900
TZNAME:AKST
DTSTART:20241103T100000
END:STANDARD
END:VTIMEZONE
BEGIN:VEVENT
DTSTART;TZID=America/Anchorage:20231011T180000
DTEND;TZID=America/Anchorage:20231011T190000
DTSTAMP:20260424T021203
CREATED:20230912T225509Z
LAST-MODIFIED:20230912T233250Z
UID:13957-1697047200-1697050800@www.kenaiwatershed.org
SUMMARY:Fireside Chats: Backyard Botany with Bonnie Bernard
DESCRIPTION:Join the Kenai Watershed Forum\, Wednesday at 6pm for Fireside Chats at the Kenai River Brewing Co. \nBonnie Bernard\, KWF Invasives Species Coordinator\, will be presenting on how to identify both native and invasive plants that you can find in your own backyard. \nKWF Members get a free drink on us. We hope to see you there!
URL:https://www.kenaiwatershed.org/event/fireside-chats-backyard-botany/
LOCATION:Kenai River Brewing Company\, 308 Homestead Ln\, Soldotna\, AK\, 99669\, United States
END:VEVENT
END:VCALENDAR